{
 "currentVersion": 10.81,
 "serviceDescription": "",
 "mapName": "Layers",
 "description": "",
 "copyrightText": "",
 "supportsDynamicLayers": true,
 "layers": [
  {
   "id": 0,
   "name": "Tappo",
   "parentLayerId": -1,
   "defaultVisibility": true,
   "subLayerIds": null,
   "minScale": 300,
   "maxScale": 0,
   "type": "Feature Layer",
   "geometryType": "esriGeometryPolygon"
  },
  {
   "id": 1,
   "name": "INVA.tif",
   "parentLayerId": -1,
   "defaultVisibility": true,
   "subLayerIds": null,
   "minScale": 0,
   "maxScale": 0,
   "type": "Raster Layer"
  }
 ],
 "tables": [],
 "spatialReference": {
  "wkid": 23032,
  "latestWkid": 23032
 },
 "singleFusedMapCache": true,
 "tileInfo": {
  "rows": 256,
  "cols": 256,
  "dpi": 96,
  "format": "JPEG",
  "compressionQuality": 75,
  "origin": {
   "x": -5121200,
   "y": 9998400
  },
  "spatialReference": {
   "wkid": 23032,
   "latestWkid": 23032
  },
  "lods": [
   {
    "level": 0,
    "resolution": 0.158750317500635,
    "scale": 600
   },
   {
    "level": 1,
    "resolution": 0.13229193125052918,
    "scale": 500
   },
   {
    "level": 2,
    "resolution": 0.10583354500042334,
    "scale": 400
   },
   {
    "level": 3,
    "resolution": 0.0793751587503175,
    "scale": 300
   },
   {
    "level": 4,
    "resolution": 0.05291677250021167,
    "scale": 200
   },
   {
    "level": 5,
    "resolution": 0.026458386250105836,
    "scale": 100
   }
  ]
 },
 "initialExtent": {
  "xmin": 373630.32769921515,
  "ymin": 5066263.863785396,
  "xmax": 373860.33517016226,
  "ymax": 5066364.292086081,
  "spatialReference": {
   "wkid": 23032,
   "latestWkid": 23032
  }
 },
 "fullExtent": {
  "xmin": 373660.7836614266,
  "ymin": 5066209.828027151,
  "xmax": 373829.879207951,
  "ymax": 5066364.292086079,
  "spatialReference": {
   "wkid": 23032,
   "latestWkid": 23032
  }
 },
 "minScale": 600,
 "maxScale": 100,
 "minLOD": 0,
 "maxLOD": 5,
 "units": "esriMeters",
 "supportedImageFormatTypes": "PNG32,PNG24,PNG,JPG,DIB,TIFF,EMF,PS,PDF,GIF,SVG,SVGZ,BMP",
 "documentInfo": {
  "Title": "",
  "Author": "",
  "Comments": "",
  "Subject": "",
  "Category": "",
  "AntialiasingMode": "None",
  "TextAntialiasingMode": "Force",
  "Keywords": ""
 },
 "capabilities": "Map,Query,Data",
 "supportedQueryFormats": "JSON, geoJSON",
 "exportTilesAllowed": false,
 "referenceScale": 0,
 "datumTransformations": [
  {
   "geoTransforms": [
    {
     "wkid": 108001,
     "latestWkid": 1241,
     "transformForward": true,
     "name": "NAD_1927_To_NAD_1983_NADCON"
    }
   ]
  },
  {
   "geoTransforms": [
    {
     "wkid": 108001,
     "latestWkid": 1241,
     "transformForward": false,
     "name": "NAD_1927_To_NAD_1983_NADCON"
    }
   ]
  }
 ],
 "supportsDatumTransformation": true,
 "maxRecordCount": 1000,
 "maxImageHeight": 4096,
 "maxImageWidth": 4096,
 "supportedExtensions": ""
}
